BEGIN:VCALENDAR
VERSION:2.0
PRODID:-//Centro de formación marítima en la Caleta de Vélez - ECPv6.15.18//NONSGML v1.0//EN
CALSCALE:GREGORIAN
METHOD:PUBLISH
X-ORIGINAL-URL:https://www.maritimacaleta.com
X-WR-CALDESC:Eventos para Centro de formación marítima en la Caleta de Vélez
REFRESH-INTERVAL;VALUE=DURATION:PT1H
X-Robots-Tag:noindex
X-PUBLISHED-TTL:PT1H
BEGIN:VTIMEZONE
TZID:Europe/Madrid
BEGIN:DAYLIGHT
TZOFFSETFROM:+0100
TZOFFSETTO:+0200
TZNAME:CEST
DTSTART:20230326T010000
END:DAYLIGHT
BEGIN:STANDARD
TZOFFSETFROM:+0200
TZOFFSETTO:+0100
TZNAME:CET
DTSTART:20231029T010000
END:STANDARD
BEGIN:DAYLIGHT
TZOFFSETFROM:+0100
TZOFFSETTO:+0200
TZNAME:CEST
DTSTART:20240331T010000
END:DAYLIGHT
BEGIN:STANDARD
TZOFFSETFROM:+0200
TZOFFSETTO:+0100
TZNAME:CET
DTSTART:20241027T010000
END:STANDARD
BEGIN:DAYLIGHT
TZOFFSETFROM:+0100
TZOFFSETTO:+0200
TZNAME:CEST
DTSTART:20250330T010000
END:DAYLIGHT
BEGIN:STANDARD
TZOFFSETFROM:+0200
TZOFFSETTO:+0100
TZNAME:CET
DTSTART:20251026T010000
END:STANDARD
END:VTIMEZONE
BEGIN:VEVENT
DTSTART;TZID=Europe/Madrid:20241019T080000
DTEND;TZID=Europe/Madrid:20241020T170000
DTSTAMP:20260426T010710
CREATED:20240910T101619Z
LAST-MODIFIED:20240910T101619Z
UID:1115-1729324800-1729443600@www.maritimacaleta.com
SUMMARY:Actualización Formación Básica en Seguridad STCW
DESCRIPTION:Curso de 16 horas que se va a dar en un fin de semana. Si no tienes donde quedarte a dormir\, tenemos un hotel concertado a muy buen precio
URL:https://www.maritimacaleta.com/calendario/actualizacion-formacion-basica-en-seguridad-stcw/
LOCATION:Maritima Caleta\, Diseminado Caleta de Vélez\, Caleta de Vélez\, Málaga\, 29751\, España
CATEGORIES:Actualizacion Formación Básica en Seguridad,Cursos STCW,Revalidaciones STCW
ATTACH;FMTTYPE=image/jpeg:https://www.maritimacaleta.com/wp-content/uploads/2023/05/maritima-caleta-curso-stcw-3-e1688991283871.jpeg
ORGANIZER;CN="Maritima Caleta %2C S.L":MAILTO:cursos@maritimacaleta.com
END:VEVENT
END:VCALENDAR