BEGIN:VCALENDAR
VERSION:2.0
PRODID:-//Centro de formación marítima en la Caleta de Vélez - ECPv6.15.18//NONSGML v1.0//EN
CALSCALE:GREGORIAN
METHOD:PUBLISH
X-ORIGINAL-URL:https://www.maritimacaleta.com
X-WR-CALDESC:Eventos para Centro de formación marítima en la Caleta de Vélez
REFRESH-INTERVAL;VALUE=DURATION:PT1H
X-Robots-Tag:noindex
X-PUBLISHED-TTL:PT1H
BEGIN:VTIMEZONE
TZID:Europe/Madrid
BEGIN:DAYLIGHT
TZOFFSETFROM:+0100
TZOFFSETTO:+0200
TZNAME:CEST
DTSTART:20240331T010000
END:DAYLIGHT
BEGIN:STANDARD
TZOFFSETFROM:+0200
TZOFFSETTO:+0100
TZNAME:CET
DTSTART:20241027T010000
END:STANDARD
BEGIN:DAYLIGHT
TZOFFSETFROM:+0100
TZOFFSETTO:+0200
TZNAME:CEST
DTSTART:20250330T010000
END:DAYLIGHT
BEGIN:STANDARD
TZOFFSETFROM:+0200
TZOFFSETTO:+0100
TZNAME:CET
DTSTART:20251026T010000
END:STANDARD
BEGIN:DAYLIGHT
TZOFFSETFROM:+0100
TZOFFSETTO:+0200
TZNAME:CEST
DTSTART:20260329T010000
END:DAYLIGHT
BEGIN:STANDARD
TZOFFSETFROM:+0200
TZOFFSETTO:+0100
TZNAME:CET
DTSTART:20261025T010000
END:STANDARD
END:VTIMEZONE
BEGIN:VEVENT
DTSTART;VALUE=DATE:20250219
DTEND;VALUE=DATE:20250223
DTSTAMP:20260420T151516
CREATED:20250118T181950Z
LAST-MODIFIED:20250118T181951Z
UID:1248-1739923200-1740268799@www.maritimacaleta.com
SUMMARY:Curso de Buques de Pasaje
DESCRIPTION:Curso de 32 horas que te habilita para embarcar en barcos de pasaje. El curso se realizará en Caleta de Vélez y tiene una duración de 4 días. Si tienes problema de alojamiento\, por favor ponte en contacto con nosotros ya que tenemos acuerdos con hoteles de la zona\, si prefieres airbnb puedes encontrar alojamientos muy bien de precio. \nEl curso lo puedes bonificar por Fundae
URL:https://www.maritimacaleta.com/calendario/curso-de-buques-de-pasaje/
LOCATION:Maritima Caleta\, Diseminado Caleta de Vélez\, Caleta de Vélez\, Málaga\, 29751\, España
CATEGORIES:Curso buques de pasaje,Cursos STCW
ATTACH;FMTTYPE=image/jpeg:https://www.maritimacaleta.com/wp-content/uploads/2022/10/formacion-seguridad-maritima-maritima-caleta-malaga-17.jpg
ORGANIZER;CN="Maritima Caleta de Velez SL":MAILTO:cursos@maritimacaleta.com
END:VEVENT
END:VCALENDAR