BEGIN:VCALENDAR
VERSION:2.0
PRODID:-//Centro de formación marítima en la Caleta de Vélez - ECPv6.15.18//NONSGML v1.0//EN
CALSCALE:GREGORIAN
METHOD:PUBLISH
X-ORIGINAL-URL:https://www.maritimacaleta.com
X-WR-CALDESC:Eventos para Centro de formación marítima en la Caleta de Vélez
REFRESH-INTERVAL;VALUE=DURATION:PT1H
X-Robots-Tag:noindex
X-PUBLISHED-TTL:PT1H
BEGIN:VTIMEZONE
TZID:Europe/Madrid
BEGIN:DAYLIGHT
TZOFFSETFROM:+0100
TZOFFSETTO:+0200
TZNAME:CEST
DTSTART:20240331T010000
END:DAYLIGHT
BEGIN:STANDARD
TZOFFSETFROM:+0200
TZOFFSETTO:+0100
TZNAME:CET
DTSTART:20241027T010000
END:STANDARD
BEGIN:DAYLIGHT
TZOFFSETFROM:+0100
TZOFFSETTO:+0200
TZNAME:CEST
DTSTART:20250330T010000
END:DAYLIGHT
BEGIN:STANDARD
TZOFFSETFROM:+0200
TZOFFSETTO:+0100
TZNAME:CET
DTSTART:20251026T010000
END:STANDARD
BEGIN:DAYLIGHT
TZOFFSETFROM:+0100
TZOFFSETTO:+0200
TZNAME:CEST
DTSTART:20260329T010000
END:DAYLIGHT
BEGIN:STANDARD
TZOFFSETFROM:+0200
TZOFFSETTO:+0100
TZNAME:CET
DTSTART:20261025T010000
END:STANDARD
END:VTIMEZONE
BEGIN:VEVENT
DTSTART;VALUE=DATE:20250602
DTEND;VALUE=DATE:20250611
DTSTAMP:20260417T165855
CREATED:20250420T171850Z
LAST-MODIFIED:20250528T061047Z
UID:1325-1748822400-1749599999@www.maritimacaleta.com
SUMMARY:Curso de Formación Básica en Seguridad STCW
DESCRIPTION:COMPLETO!! Curso de 70 horas que se realiza en 9 días seguidos. Se realizará en nuestras instalaciones de Caleta de Vélez junto al mar. Este curso esta bonificado por FUNDAE\, si no sabes cómo funciona esta subvención llámanos para informarte. \nSi eres de otra localidad y no sabes donde quedarte\, tenemos hoteles concertados con precios muy económicos. \nCaleta de Vélez es un pueblo que está a menos de media hora de Málaga y donde podrás disfrutar de una amplia oferta gastronómica a buen precio.
URL:https://www.maritimacaleta.com/calendario/curso-de-formacion-basica-en-seguridad-stcw-2/
LOCATION:Maritima Caleta\, Diseminado Caleta de Vélez\, Caleta de Vélez\, Málaga\, 29751\, España
CATEGORIES:Curso fomación Básica en Seguridad stcw,Cursos STCW,Formación Básica
ATTACH;FMTTYPE=image/jpeg:https://www.maritimacaleta.com/wp-content/uploads/2023/05/maritima-caleta-curso-stcw-4.jpeg
ORGANIZER;CN="Maritima Caleta de Velez SL":MAILTO:cursos@maritimacaleta.com
END:VEVENT
END:VCALENDAR