BEGIN:VCALENDAR
VERSION:2.0
PRODID:-//Centro de formación marítima en la Caleta de Vélez - ECPv6.15.18//NONSGML v1.0//EN
CALSCALE:GREGORIAN
METHOD:PUBLISH
X-WR-CALNAME:Centro de formación marítima en la Caleta de Vélez
X-ORIGINAL-URL:https://www.maritimacaleta.com
X-WR-CALDESC:Eventos para Centro de formación marítima en la Caleta de Vélez
REFRESH-INTERVAL;VALUE=DURATION:PT1H
X-Robots-Tag:noindex
X-PUBLISHED-TTL:PT1H
BEGIN:VTIMEZONE
TZID:Europe/Madrid
BEGIN:DAYLIGHT
TZOFFSETFROM:+0100
TZOFFSETTO:+0200
TZNAME:CEST
DTSTART:20240331T010000
END:DAYLIGHT
BEGIN:STANDARD
TZOFFSETFROM:+0200
TZOFFSETTO:+0100
TZNAME:CET
DTSTART:20241027T010000
END:STANDARD
BEGIN:DAYLIGHT
TZOFFSETFROM:+0100
TZOFFSETTO:+0200
TZNAME:CEST
DTSTART:20250330T010000
END:DAYLIGHT
BEGIN:STANDARD
TZOFFSETFROM:+0200
TZOFFSETTO:+0100
TZNAME:CET
DTSTART:20251026T010000
END:STANDARD
BEGIN:DAYLIGHT
TZOFFSETFROM:+0100
TZOFFSETTO:+0200
TZNAME:CEST
DTSTART:20260329T010000
END:DAYLIGHT
BEGIN:STANDARD
TZOFFSETFROM:+0200
TZOFFSETTO:+0100
TZNAME:CET
DTSTART:20261025T010000
END:STANDARD
END:VTIMEZONE
BEGIN:VEVENT
DTSTART;VALUE=DATE:20250402
DTEND;VALUE=DATE:20250405
DTSTAMP:20260420T061056
CREATED:20250213T091208Z
LAST-MODIFIED:20250309T201812Z
UID:1273-1743552000-1743811199@www.maritimacaleta.com
SUMMARY:Curso de Formación Sanitaria Específica Inicial
DESCRIPTION:Curso de 22 horas que se realiza durante tres días en jornada de mañana y tarde en nuestras instalaciones de Caleta de Vélez. Está bonificado por Fundae\, una vez que lo finalizas\, puedes pedir la devolución de lo que te ha costado el curso. Si no tienes sitio donde quedarte a dormir\, tenemos hoteles concertados en la zona que sale la habitación 35 € diarios.
URL:https://www.maritimacaleta.com/calendario/curso-de-formacion-sanitaria-especifica-inicial-5/
LOCATION:Maritima Caleta\, Diseminado Caleta de Vélez\, Caleta de Vélez\, Málaga\, 29751\, España
CATEGORIES:Formación sanitaria inicial
ATTACH;FMTTYPE=image/jpeg:https://www.maritimacaleta.com/wp-content/uploads/2023/08/4077325c-ec5f-47d2-8886-19a95e4a4184.jpg
ORGANIZER;CN="Maritima Caleta %2C S.L":MAILTO:cursos@maritimacaleta.com
END:VEVENT
END:VCALENDAR