BEGIN:VCALENDAR
VERSION:2.0
PRODID:-//Centro de formación marítima en la Caleta de Vélez - ECPv6.15.18//NONSGML v1.0//EN
CALSCALE:GREGORIAN
METHOD:PUBLISH
X-ORIGINAL-URL:https://www.maritimacaleta.com
X-WR-CALDESC:Eventos para Centro de formación marítima en la Caleta de Vélez
REFRESH-INTERVAL;VALUE=DURATION:PT1H
X-Robots-Tag:noindex
X-PUBLISHED-TTL:PT1H
BEGIN:VTIMEZONE
TZID:Europe/Madrid
BEGIN:DAYLIGHT
TZOFFSETFROM:+0100
TZOFFSETTO:+0200
TZNAME:CEST
DTSTART:20230326T010000
END:DAYLIGHT
BEGIN:STANDARD
TZOFFSETFROM:+0200
TZOFFSETTO:+0100
TZNAME:CET
DTSTART:20231029T010000
END:STANDARD
BEGIN:DAYLIGHT
TZOFFSETFROM:+0100
TZOFFSETTO:+0200
TZNAME:CEST
DTSTART:20240331T010000
END:DAYLIGHT
BEGIN:STANDARD
TZOFFSETFROM:+0200
TZOFFSETTO:+0100
TZNAME:CET
DTSTART:20241027T010000
END:STANDARD
BEGIN:DAYLIGHT
TZOFFSETFROM:+0100
TZOFFSETTO:+0200
TZNAME:CEST
DTSTART:20250330T010000
END:DAYLIGHT
BEGIN:STANDARD
TZOFFSETFROM:+0200
TZOFFSETTO:+0100
TZNAME:CET
DTSTART:20251026T010000
END:STANDARD
END:VTIMEZONE
BEGIN:VEVENT
DTSTART;TZID=Europe/Madrid:20241022T090000
DTEND;TZID=Europe/Madrid:20241024T180000
DTSTAMP:20260422T174934
CREATED:20240910T101134Z
LAST-MODIFIED:20241002T183111Z
UID:1111-1729587600-1729792800@www.maritimacaleta.com
SUMMARY:Curso de Formación Sanitaria Específica Inicial
DESCRIPTION:Curso de 22 horas que se va a realizar en Caleta de Vélez. Si te tienes que quedar a dormir en la zona\, tenemos un hotel concertado a muy buen precio. \nEn el momento que finalizas el curso puedes solicitar el reintegro del mismo a FUNDAE
URL:https://www.maritimacaleta.com/calendario/curso-de-formacion-sanitaria-especifica-inicial-3/
LOCATION:Maritima Caleta\, Diseminado Caleta de Vélez\, Caleta de Vélez\, Málaga\, 29751\, España
CATEGORIES:Formación sanitaria inicial
ATTACH;FMTTYPE=image/jpeg:https://www.maritimacaleta.com/wp-content/uploads/2022/10/formacion-seguridad-maritima-maritima-caleta-malaga-101-1.jpg
ORGANIZER;CN="Maritima Caleta %2C S.L":MAILTO:cursos@maritimacaleta.com
END:VEVENT
BEGIN:VEVENT
DTSTART;TZID=Europe/Madrid:20241022T150000
DTEND;TZID=Europe/Madrid:20241024T183000
DTSTAMP:20260422T174934
CREATED:20241005T151207Z
LAST-MODIFIED:20241005T151211Z
UID:1125-1729609200-1729794600@www.maritimacaleta.com
SUMMARY:Curso de Actualización Formación Sanitaria Específica Inicial
DESCRIPTION:Curso que se va a realizar por la tarde en Caleta de Vélez (Málaga). Consta de 10 horas de curso que se da durante el día 22\, 23 y 24 de octubre. Si no tienes donde quedarte\, tenemos hotel concertado a muy buen precio.
URL:https://www.maritimacaleta.com/calendario/curso-de-actualizacion-formacion-sanitaria-especifica-inicial/
LOCATION:Maritima Caleta\, Diseminado Caleta de Vélez\, Caleta de Vélez\, Málaga\, 29751\, España
CATEGORIES:Actualización Formación sanitaria,Formación sanitaria inicial
ATTACH;FMTTYPE=image/jpeg:https://www.maritimacaleta.com/wp-content/uploads/2023/08/4077325c-ec5f-47d2-8886-19a95e4a4184.jpg
ORGANIZER;CN="Maritima Caleta %2C S.L":MAILTO:cursos@maritimacaleta.com
END:VEVENT
END:VCALENDAR