BEGIN:VCALENDAR
VERSION:2.0
PRODID:-//Centro de formación marítima en la Caleta de Vélez - ECPv6.15.18//NONSGML v1.0//EN
CALSCALE:GREGORIAN
METHOD:PUBLISH
X-ORIGINAL-URL:https://www.maritimacaleta.com
X-WR-CALDESC:Eventos para Centro de formación marítima en la Caleta de Vélez
REFRESH-INTERVAL;VALUE=DURATION:PT1H
X-Robots-Tag:noindex
X-PUBLISHED-TTL:PT1H
BEGIN:VTIMEZONE
TZID:Europe/Madrid
BEGIN:DAYLIGHT
TZOFFSETFROM:+0100
TZOFFSETTO:+0200
TZNAME:CEST
DTSTART:20240331T010000
END:DAYLIGHT
BEGIN:STANDARD
TZOFFSETFROM:+0200
TZOFFSETTO:+0100
TZNAME:CET
DTSTART:20241027T010000
END:STANDARD
BEGIN:DAYLIGHT
TZOFFSETFROM:+0100
TZOFFSETTO:+0200
TZNAME:CEST
DTSTART:20250330T010000
END:DAYLIGHT
BEGIN:STANDARD
TZOFFSETFROM:+0200
TZOFFSETTO:+0100
TZNAME:CET
DTSTART:20251026T010000
END:STANDARD
BEGIN:DAYLIGHT
TZOFFSETFROM:+0100
TZOFFSETTO:+0200
TZNAME:CEST
DTSTART:20260329T010000
END:DAYLIGHT
BEGIN:STANDARD
TZOFFSETFROM:+0200
TZOFFSETTO:+0100
TZNAME:CET
DTSTART:20261025T010000
END:STANDARD
END:VTIMEZONE
BEGIN:VEVENT
DTSTART;TZID=Europe/Madrid:20250210T080000
DTEND;TZID=Europe/Madrid:20250218T170000
DTSTAMP:20260421T175023
CREATED:20250117T110221Z
LAST-MODIFIED:20250117T110221Z
UID:1239-1739174400-1739898000@www.maritimacaleta.com
SUMMARY:Curso de formación Básica en Seguridad
DESCRIPTION:Curso de 70 horas que se va a realizar en 9 días en Caleta de Vélez.  Una vez que lo finalizas\, ya puedes obtener tu libreta de inscripción marítima y solicitar los reconocimientos médicos por el Instituto Social de la Marina. \nUna vez que finalizas el curso está bonificado por FUNDAE.
URL:https://www.maritimacaleta.com/calendario/curso-de-formacion-basica-en-seguridad-5/
LOCATION:Maritima Caleta\, Diseminado Caleta de Vélez\, Caleta de Vélez\, Málaga\, 29751\, España
CATEGORIES:Curso fomación Básica en Seguridad stcw
ATTACH;FMTTYPE=image/jpeg:https://www.maritimacaleta.com/wp-content/uploads/2024/10/Unknown-10.jpeg
ORGANIZER;CN="Maritima Caleta de Velez SL":MAILTO:cursos@maritimacaleta.com
END:VEVENT
BEGIN:VEVENT
DTSTART;VALUE=DATE:20250220
DTEND;VALUE=DATE:20250221
DTSTAMP:20260421T175023
CREATED:20250117T110957Z
LAST-MODIFIED:20250117T110957Z
UID:1244-1740009600-1740095999@www.maritimacaleta.com
SUMMARY:Curso Actualización Formación Sanitaria Específica Inicial
DESCRIPTION:Curso de 8 horas que se va a realizar en nuestras instalaciones de Caleta de Vélez. Puedes hacerlo siempre que no te haya caducado el certificado de Formación Sanitaria Específica Inicial.
URL:https://www.maritimacaleta.com/calendario/curso-actualizacion-formacion-sanitaria-especifica-inicial/
LOCATION:Maritima Caleta\, Diseminado Caleta de Vélez\, Caleta de Vélez\, Málaga\, 29751\, España
CATEGORIES:Actualización Formación sanitaria
ATTACH;FMTTYPE=image/jpeg:https://www.maritimacaleta.com/wp-content/uploads/2023/08/4077325c-ec5f-47d2-8886-19a95e4a4184.jpg
ORGANIZER;CN="Maritima Caleta de Velez SL":MAILTO:cursos@maritimacaleta.com
END:VEVENT
END:VCALENDAR