BEGIN:VCALENDAR
VERSION:2.0
PRODID:-//Centro de formación marítima en la Caleta de Vélez - ECPv6.15.18//NONSGML v1.0//EN
CALSCALE:GREGORIAN
METHOD:PUBLISH
X-ORIGINAL-URL:https://www.maritimacaleta.com
X-WR-CALDESC:Eventos para Centro de formación marítima en la Caleta de Vélez
REFRESH-INTERVAL;VALUE=DURATION:PT1H
X-Robots-Tag:noindex
X-PUBLISHED-TTL:PT1H
BEGIN:VTIMEZONE
TZID:Europe/Madrid
BEGIN:DAYLIGHT
TZOFFSETFROM:+0100
TZOFFSETTO:+0200
TZNAME:CEST
DTSTART:20230326T010000
END:DAYLIGHT
BEGIN:STANDARD
TZOFFSETFROM:+0200
TZOFFSETTO:+0100
TZNAME:CET
DTSTART:20231029T010000
END:STANDARD
BEGIN:DAYLIGHT
TZOFFSETFROM:+0100
TZOFFSETTO:+0200
TZNAME:CEST
DTSTART:20240331T010000
END:DAYLIGHT
BEGIN:STANDARD
TZOFFSETFROM:+0200
TZOFFSETTO:+0100
TZNAME:CET
DTSTART:20241027T010000
END:STANDARD
BEGIN:DAYLIGHT
TZOFFSETFROM:+0100
TZOFFSETTO:+0200
TZNAME:CEST
DTSTART:20250330T010000
END:DAYLIGHT
BEGIN:STANDARD
TZOFFSETFROM:+0200
TZOFFSETTO:+0100
TZNAME:CET
DTSTART:20251026T010000
END:STANDARD
END:VTIMEZONE
BEGIN:VEVENT
DTSTART;TZID=Europe/Madrid:20240617T080000
DTEND;TZID=Europe/Madrid:20240625T170000
DTSTAMP:20260422T014415
CREATED:20240523T215952Z
LAST-MODIFIED:20240603T155648Z
UID:1055-1718611200-1719334800@www.maritimacaleta.com
SUMMARY:Curso de Formación Básica en Seguridad
DESCRIPTION:Curso subvencionado. La duración del curso es de 9 días y si no tienes donde quedarte\, tenemos un hotel que te dejamos a 35 € la noche. En el mismo puerto deportivo de Caleta de Vélez. \nSon 70 horas el curso y una vez finalizado puedes solicitar la libreta de inscripción Marítima (DIM) y reconocimiento médico de la Marina (ISM). \n 
URL:https://www.maritimacaleta.com/calendario/curso-de-formacion-basica-en-seguridad/
LOCATION:Maritima Caleta\, Diseminado Caleta de Vélez\, Caleta de Vélez\, Málaga\, 29751\, España
CATEGORIES:Formación Básica
ATTACH;FMTTYPE=image/jpeg:https://www.maritimacaleta.com/wp-content/uploads/2024/05/WhatsApp-Image-2024-04-30-at-13.14.45-1.jpeg
ORGANIZER;CN="Maritima Caleta %2C S.L":MAILTO:cursos@maritimacaleta.com
END:VEVENT
END:VCALENDAR