BEGIN:VCALENDAR
VERSION:2.0
PRODID:-//Centro de formación marítima en la Caleta de Vélez - ECPv6.15.18//NONSGML v1.0//EN
CALSCALE:GREGORIAN
METHOD:PUBLISH
X-ORIGINAL-URL:https://www.maritimacaleta.com
X-WR-CALDESC:Eventos para Centro de formación marítima en la Caleta de Vélez
REFRESH-INTERVAL;VALUE=DURATION:PT1H
X-Robots-Tag:noindex
X-PUBLISHED-TTL:PT1H
BEGIN:VTIMEZONE
TZID:Europe/Madrid
BEGIN:DAYLIGHT
TZOFFSETFROM:+0100
TZOFFSETTO:+0200
TZNAME:CEST
DTSTART:20230326T010000
END:DAYLIGHT
BEGIN:STANDARD
TZOFFSETFROM:+0200
TZOFFSETTO:+0100
TZNAME:CET
DTSTART:20231029T010000
END:STANDARD
BEGIN:DAYLIGHT
TZOFFSETFROM:+0100
TZOFFSETTO:+0200
TZNAME:CEST
DTSTART:20240331T010000
END:DAYLIGHT
BEGIN:STANDARD
TZOFFSETFROM:+0200
TZOFFSETTO:+0100
TZNAME:CET
DTSTART:20241027T010000
END:STANDARD
BEGIN:DAYLIGHT
TZOFFSETFROM:+0100
TZOFFSETTO:+0200
TZNAME:CEST
DTSTART:20250330T010000
END:DAYLIGHT
BEGIN:STANDARD
TZOFFSETFROM:+0200
TZOFFSETTO:+0100
TZNAME:CET
DTSTART:20251026T010000
END:STANDARD
END:VTIMEZONE
BEGIN:VEVENT
DTSTART;VALUE=DATE:20241111
DTEND;VALUE=DATE:20241120
DTSTAMP:20260422T000522
CREATED:20241007T084707Z
LAST-MODIFIED:20241029T181042Z
UID:1129-1731283200-1732060799@www.maritimacaleta.com
SUMMARY:Curso de Formación Básica en Seguridad
DESCRIPTION:Curso de 70 horas que se va a realizar en Caleta de Vélez Málaga. Dura 9 día. Si eres de otro punto de Andalucía y no tienes alojamiento te puedes quedar en un hotel que tenemos concertado a precio muy económico. \nEste curso una vez que lo finalizas\, FUNDAE te reingresa el dinero que has pagado.
URL:https://www.maritimacaleta.com/calendario/curso-de-formacion-basica-en-seguridad-2/
LOCATION:Maritima Caleta\, Diseminado Caleta de Vélez\, Caleta de Vélez\, Málaga\, 29751\, España
CATEGORIES:Formación Básica,Formación Básica STCW,Seguridad maritima
ATTACH;FMTTYPE=image/jpeg:https://www.maritimacaleta.com/wp-content/uploads/2023/05/maritima-caleta-curso-stcw-4.jpeg
ORGANIZER;CN="Maritima Caleta %2C S.L":MAILTO:cursos@maritimacaleta.com
END:VEVENT
BEGIN:VEVENT
DTSTART;VALUE=DATE:20241116
DTEND;VALUE=DATE:20241118
DTSTAMP:20260422T000522
CREATED:20241007T085608Z
LAST-MODIFIED:20241007T085608Z
UID:1133-1731715200-1731887999@www.maritimacaleta.com
SUMMARY:Curso de Actualización Formación Básica en Seguridad
DESCRIPTION:Curso de 16 horas que se va a realizar en fin de semana. Si no tienes alojamiento\, puedes hablar con nosotros que tenemos hotel concertado a precio muy económico.
URL:https://www.maritimacaleta.com/calendario/curso-de-actualizacion-formacion-basica-en-seguridad/
LOCATION:Málaga
CATEGORIES:Actualización Formación Básica,Actualizacion Formación Básica en Seguridad
ATTACH;FMTTYPE=image/jpeg:https://www.maritimacaleta.com/wp-content/uploads/2024/05/WhatsApp-Image-2024-04-30-at-13.14.45-1.jpeg
ORGANIZER;CN="Maritima Caleta %2C S.L":MAILTO:cursos@maritimacaleta.com
END:VEVENT
END:VCALENDAR