BEGIN:VCALENDAR
VERSION:2.0
PRODID:-//Centro de formación marítima en la Caleta de Vélez - ECPv6.15.18//NONSGML v1.0//EN
CALSCALE:GREGORIAN
METHOD:PUBLISH
X-ORIGINAL-URL:https://www.maritimacaleta.com
X-WR-CALDESC:Eventos para Centro de formación marítima en la Caleta de Vélez
REFRESH-INTERVAL;VALUE=DURATION:PT1H
X-Robots-Tag:noindex
X-PUBLISHED-TTL:PT1H
BEGIN:VTIMEZONE
TZID:Europe/Madrid
BEGIN:DAYLIGHT
TZOFFSETFROM:+0100
TZOFFSETTO:+0200
TZNAME:CEST
DTSTART:20250330T010000
END:DAYLIGHT
BEGIN:STANDARD
TZOFFSETFROM:+0200
TZOFFSETTO:+0100
TZNAME:CET
DTSTART:20251026T010000
END:STANDARD
BEGIN:DAYLIGHT
TZOFFSETFROM:+0100
TZOFFSETTO:+0200
TZNAME:CEST
DTSTART:20260329T010000
END:DAYLIGHT
BEGIN:STANDARD
TZOFFSETFROM:+0200
TZOFFSETTO:+0100
TZNAME:CET
DTSTART:20261025T010000
END:STANDARD
BEGIN:DAYLIGHT
TZOFFSETFROM:+0100
TZOFFSETTO:+0200
TZNAME:CEST
DTSTART:20270328T010000
END:DAYLIGHT
BEGIN:STANDARD
TZOFFSETFROM:+0200
TZOFFSETTO:+0100
TZNAME:CET
DTSTART:20271031T010000
END:STANDARD
END:VTIMEZONE
BEGIN:VEVENT
DTSTART;TZID=Europe/Madrid:20260420T080000
DTEND;TZID=Europe/Madrid:20260508T170000
DTSTAMP:20260421T155806
CREATED:20260308T194239Z
LAST-MODIFIED:20260308T194239Z
UID:1472-1776672000-1778259600@www.maritimacaleta.com
SUMMARY:PACK CRUCERO Y PASAJE
DESCRIPTION:Pack Buques de Crucero – Formación Marítima Profesional \nEl Pack Buques de Crucero es un programa de formación diseñado para todas aquellas personas que desean iniciar o impulsar su carrera profesional a bordo de cruceros\, ferris y buques de pasaje. Este pack reúne tres certificaciones fundamentales exigidas por la normativa marítima internacional\, permitiendo a los alumnos obtener en una sola formación los cursos básicos necesarios para trabajar en el sector marítimo. \nEl programa incluye el Curso de Formación Básica en Seguridad\, el Curso de Formación Básica en Protección Marítima y el Curso de Buques de Pasaje\, tres titulaciones reguladas por el Convenio STCW y requeridas por muchas compañías navieras para poder embarcar en buques que transportan pasajeros. \nDurante la formación\, los participantes adquieren conocimientos esenciales sobre seguridad marítima\, prevención de riesgos\, supervivencia en el mar\, lucha contra incendios\, protección del buque frente a amenazas y control de multitudes en embarcaciones de pasaje. Estas competencias son fundamentales para garantizar la seguridad de la tripulación\, los pasajeros y el propio buque durante las operaciones a bordo. \nEl pack está especialmente dirigido a personas interesadas en trabajar en cruceros\, ferris\, yates o buques turísticos\, así como a profesionales de hostelería\, marinería y servicios que quieran desarrollar su carrera en el entorno marítimo internacional. Obtener estas certificaciones aumenta significativamente las oportunidades de empleo en compañías navieras y en el sector del transporte marítimo de pasajeros. \nLa formación combina contenidos teóricos con ejercicios prácticos orientados a situaciones reales que pueden producirse en la vida a bordo\, permitiendo a los alumnos prepararse para responder de forma eficaz ante emergencias o situaciones de seguridad. \nAl finalizar el programa\, los participantes obtendrán los certificados correspondientes a cada curso\, acreditaciones necesarias para embarcar en muchos buques de crucero y pasaje. \nEl Pack Buques de Crucero representa una excelente oportunidad para adquirir en un solo programa la formación básica requerida para comenzar una carrera profesional en el sector marítimo internacional.
URL:https://www.maritimacaleta.com/calendario/pack-crucero-y-pasaje/
LOCATION:Maritima Caleta\, Diseminado Caleta de Vélez\, Caleta de Vélez\, Málaga\, 29751\, España
CATEGORIES:PACK Buques de crucero
ATTACH;FMTTYPE=image/jpeg:https://www.maritimacaleta.com/wp-content/uploads/2022/10/formacion-seguridad-maritima-maritima-caleta-malaga-105.jpg
END:VEVENT
BEGIN:VEVENT
DTSTART;VALUE=DATE:20260424
DTEND;VALUE=DATE:20260425
DTSTAMP:20260421T155806
CREATED:20260317T110136Z
LAST-MODIFIED:20260413T171256Z
UID:1475-1776988800-1777075199@www.maritimacaleta.com
SUMMARY:Curso de Actualización de Formación Sanitaria Específica Inicial
DESCRIPTION:GRATUITO –El Curso de Actualización de Formación Sanitaria Específica Inicial tiene una duración de 8 horas y debes realizarlo hasta 7 meses antes de que caduque el certificado de Formación Sanitaria Específica Inicial. Si se te hubiese caducado el certificado\, tienes que hacer el curso completo. \n 
URL:https://www.maritimacaleta.com/calendario/curso-de-actualizacion-de-formacion-sanitaria-especifica-inicial/
LOCATION:Maritima Caleta\, Diseminado Caleta de Vélez\, Caleta de Vélez\, Málaga\, 29751\, España
CATEGORIES:Actualización Formación sanitaria,Actualización Formación Sanitaria especifica Inicial,Formación Sanitaria Específica Inicial
ATTACH;FMTTYPE=image/jpeg:https://www.maritimacaleta.com/wp-content/uploads/2022/10/formacion-seguridad-maritima-maritima-caleta-malaga-101.jpg
ORGANIZER;CN="Maritima Caleta Formacion":MAILTO:cursos@maritimacaleta.com
END:VEVENT
BEGIN:VEVENT
DTSTART;TZID=Europe/Madrid:20260425T090000
DTEND;TZID=Europe/Madrid:20260426T170000
DTSTAMP:20260421T155806
CREATED:20260317T111605Z
LAST-MODIFIED:20260319T180216Z
UID:1478-1777107600-1777222800@www.maritimacaleta.com
SUMMARY:Actualización Formación Básica en Seguridad
DESCRIPTION:Curso de 16 horas que se imparte el sábado y el domingo días 25 y 26 de junio de 2026. \nLa actualización del curso es práctica y un día se da supervivencia en el mar y otro día contra incendios.validación Formación Básica Seguridad Stcw
URL:https://www.maritimacaleta.com/calendario/actualizacion-formacion-basica-en-seguridad-5/
LOCATION:Maritima Caleta\, Diseminado Caleta de Vélez\, Caleta de Vélez\, Málaga\, 29751\, España
CATEGORIES:Actualización Formación Básica,Actualizacion Formación Básica en Seguridad,Actualización STCW
ATTACH;FMTTYPE=image/jpeg:https://www.maritimacaleta.com/wp-content/uploads/2022/10/formacion-seguridad-maritima-maritima-caleta-malaga-22-1.jpg
ORGANIZER;CN="Maritima Caleta de Velez SL":MAILTO:cursos@maritimacaleta.com
END:VEVENT
BEGIN:VEVENT
DTSTART;TZID=Europe/Madrid:20260508T080000
DTEND;TZID=Europe/Madrid:20260508T170000
DTSTAMP:20260421T155806
CREATED:20260308T193458Z
LAST-MODIFIED:20260308T193458Z
UID:1470-1778227200-1778259600@www.maritimacaleta.com
SUMMARY:Curso de Protección Marítima
DESCRIPTION:Curso de Formación Básica en Protección Marítima \nEl Curso de Formación Básica en Protección Marítima es una certificación esencial para todas las personas que desean trabajar a bordo de buques mercantes\, ferris\, cruceros o cualquier embarcación sometida a normativa internacional de seguridad. Esta formación cumple con los requisitos establecidos por el Convenio STCW y el Código PBIP (ISPS Code)\, exigidos por las autoridades marítimas para garantizar la protección de los buques\, las tripulaciones y las instalaciones portuarias. \nDurante el curso\, los alumnos adquieren conocimientos fundamentales sobre los principios de la protección marítima\, la identificación de riesgos y amenazas\, así como los procedimientos adecuados para prevenir actos ilícitos a bordo. Se abordan temas clave como la concienciación en seguridad\, el reconocimiento de comportamientos sospechosos\, el control de accesos\, la protección de áreas restringidas y la actuación ante situaciones de emergencia relacionadas con la seguridad del buque. \nEsta formación está dirigida a marineros\, oficiales\, personal de hostelería embarcado\, tripulación de cruceros\, trabajadores portuarios y a todas aquellas personas que aspiren a desarrollar una carrera profesional en el sector marítimo. Contar con esta certificación aumenta significativamente las oportunidades laborales\, ya que es un requisito obligatorio para embarcar en muchos buques de navegación internacional. \nEl curso combina formación teórica con ejemplos prácticos basados en situaciones reales que pueden producirse a bordo\, permitiendo a los alumnos comprender cómo actuar de forma eficaz ante posibles amenazas a la seguridad marítima. \nAl finalizar la formación\, los participantes obtendrán el certificado oficial de Formación Básica en Protección Marítima\, reconocido por las autoridades marítimas y válido para trabajar en el ámbito marítimo profesional. \nSi estás interesado en trabajar en el mar o ampliar tus competencias profesionales dentro del sector marítimo\, este curso es un paso fundamental para tu desarrollo profesional. \n 
URL:https://www.maritimacaleta.com/calendario/curso-de-proteccion-maritima/
LOCATION:Maritima Caleta\, Diseminado Caleta de Vélez\, Caleta de Vélez\, Málaga\, 29751\, España
CATEGORIES:Formación Básica en Protección Marítima,Protección Marítima
ATTACH;FMTTYPE=image/jpeg:https://www.maritimacaleta.com/wp-content/uploads/2022/10/formacion-seguridad-maritima-maritima-caleta-malaga-120.jpg
ORGANIZER;CN="Maritima Caleta de Velez SL":MAILTO:cursos@maritimacaleta.com
END:VEVENT
BEGIN:VEVENT
DTSTART;TZID=Europe/Madrid:20260513T080000
DTEND;TZID=Europe/Madrid:20260515T170000
DTSTAMP:20260421T155806
CREATED:20260319T181341Z
LAST-MODIFIED:20260319T181341Z
UID:1487-1778659200-1778864400@www.maritimacaleta.com
SUMMARY:Formación Sanitaria Específica Inicial
DESCRIPTION:Curso de 3 días que se imparte en nuestras instalaciones de Caleta de Vélez en Málaga. \nLa formación sanitaria específica inicial es un requisito imprescindible para todas aquellas personas que desean trabajar en el sector marítimo. En Marítima Caleta de Vélez ofrecemos un curso completo\, actualizado y adaptado a la normativa vigente\, pensado para garantizar que los alumnos adquieran los conocimientos y habilidades necesarias para actuar con seguridad en el mar. \nEste curso está dirigido tanto a profesionales del ámbito marítimo-pesquero como a personas que desean iniciarse en este sector. A lo largo de la formación\, los participantes aprenderán a actuar ante situaciones de emergencia\, aplicar técnicas básicas de primeros auxilios y responder de manera eficaz en caso de accidente a bordo. Todo ello impartido por instructores cualificados con amplia experiencia. \nEn Marítima Caleta de Vélez apostamos por una enseñanza práctica y cercana. Nuestro objetivo no es solo que el alumno obtenga el certificado\, sino que realmente se sienta preparado para afrontar cualquier situación que pueda surgir en su actividad profesional. Por eso\, combinamos contenidos teóricos con ejercicios prácticos que simulan escenarios reales. \nAdemás\, nuestras instalaciones están completamente equipadas para ofrecer una formación de calidad en un entorno cómodo y profesional. Nos encontramos en una ubicación privilegiada\, facilitando el acceso a alumnos de toda la zona. \nContar con la formación sanitaria específica inicial no solo es una obligación legal\, sino también una garantía de seguridad para uno mismo y para toda la tripulación. Estar preparado puede marcar la diferencia en situaciones críticas. \nSi estás pensando en trabajar en el mar o necesitas renovar tu certificación\, este curso es el primer paso. En Marítima Caleta de Vélez te acompañamos en tu formación con un enfoque profesional\, cercano y orientado al éxito. \nInfórmate sin compromiso sobre próximas fechas y reserva tu plaza. Tu seguridad y tu futuro profesional empiezan aquí.
URL:https://www.maritimacaleta.com/calendario/formacion-sanitaria-especifica-inicial-4/
LOCATION:Maritima Caleta\, Diseminado Caleta de Vélez\, Caleta de Vélez\, Málaga\, 29751\, España
CATEGORIES:Formación sanitaria inicial
ATTACH;FMTTYPE=image/jpeg:https://www.maritimacaleta.com/wp-content/uploads/2023/08/4077325c-ec5f-47d2-8886-19a95e4a4184.jpg
ORGANIZER;CN="Maritima Caleta de Velez SL":MAILTO:cursos@maritimacaleta.com
END:VEVENT
BEGIN:VEVENT
DTSTART;TZID=Europe/Madrid:20260516T080000
DTEND;TZID=Europe/Madrid:20260516T170000
DTSTAMP:20260421T155806
CREATED:20260317T112438Z
LAST-MODIFIED:20260319T175942Z
UID:1482-1778918400-1778950800@www.maritimacaleta.com
SUMMARY:Curso Actualización Avanzado en Lucha Contra Incendios
DESCRIPTION:Curso de duración de 8 horas que se realiza en el campo de contra incendios de nuestras instalaciones en Caleta de Vélez ( a 30 minutos de Málaga). \nNo esperes a tener caducado el certificado\, puedes revalidarlo antes
URL:https://www.maritimacaleta.com/calendario/curso-actualizacion-avanzado-en-lucha-contra-incendios-2/
LOCATION:Málaga
CATEGORIES:Actualización Avanzado en Lucha Contra Incendios,Actualización Avanzado en Lucha Contra Incendios
ATTACH;FMTTYPE=image/jpeg:https://www.maritimacaleta.com/wp-content/uploads/2022/10/formacion-seguridad-maritima-maritima-caleta-malaga-11.jpg
END:VEVENT
BEGIN:VEVENT
DTSTART;VALUE=DATE:20260518
DTEND;VALUE=DATE:20260527
DTSTAMP:20260421T155806
CREATED:20260308T190717Z
LAST-MODIFIED:20260413T170625Z
UID:1464-1779062400-1779839999@www.maritimacaleta.com
SUMMARY:Curso de Formación Básica en Seguridad STCW
DESCRIPTION:OFERTA: Curso de Formación Básica en Seguridad STCW en Málaga\nEl Curso de Formación Básica en Seguridad STCW en Málaga es una formación obligatoria y esencial para cualquier persona que quiera trabajar profesionalmente en el sector marítimo. Se trata del curso más demandado dentro de la formación marítima\, ya que constituye el primer paso imprescindible para embarcar en buques mercantes\, pesqueros\, embarcaciones de recreo profesional y buques de pasaje\, tanto a nivel nacional como internacional. \nEste curso se imparte de forma presencial en nuestro centro situado en Caleta de Vélez\, en la Costa del Sol Oriental\, una ubicación estratégica con fácil acceso desde Málaga capital\, Vélez-Málaga\, Torrox\, Nerja y el resto de la Axarquía. \n\nCurso STCW homologado en Caleta de Vélez\nLa Formación Básica en Seguridad STCW tiene una duración total de 70 horas\, combinando formación teórica y práctica\, conforme a lo establecido en el Convenio STCW y la normativa vigente. Durante el curso\, el alumno adquiere los conocimientos y habilidades fundamentales para actuar de forma segura a bordo y responder adecuadamente ante situaciones de emergencia. \nEl curso se imparte en Marítima Caleta Formación\, centro especializado en formación marítima profesional\, dotado de instalaciones adecuadas y equipamiento específico para la realización de prácticas reales de seguridad. \nNuestro centro está homologado oficialmente por la Dirección General de la Marina Mercante\, el Instituto Social de la Marina y la Junta de Andalucía\, garantizando la plena validez del certificado obtenido. \n\nProfesores expertos en seguridad marítima\nEl curso está impartido por docentes especializados en formación STCW\, con amplia experiencia profesional en la mar y en la docencia marítima. La dirección del área formativa corre a cargo de Alejandro Rubio\, Capitán de la Marina Mercante con una extensa trayectoria en navegación y formación de tripulaciones. \nEl enfoque pedagógico es claro\, práctico y orientado a la realidad del trabajo a bordo\, facilitando que el alumno interiorice los procedimientos de seguridad de forma efectiva. \n\nContenidos del curso de Formación Básica en Seguridad\nEl Curso STCW de Formación Básica en Seguridad incluye los siguientes módulos obligatorios: \n\n\nSupervivencia en el mar\, con uso de chalecos salvavidas\, balsas y técnicas de supervivencia \n\n\nLucha contra incendios\, manejo de equipos y actuación ante incendios a bordo \n\n\nPrimeros auxilios básicos \n\n\nSeguridad personal y responsabilidades sociales \n\n\nAntes de comenzar el curso\, cada alumno recibe un cuaderno personalizado\, ideal para tomar notas y conservar una guía práctica de consulta para su vida profesional. \n\nA quién va dirigido este curso STCW\nEste curso está dirigido a personas que desean iniciarse en el sector marítimo\, así como a profesionales que necesitan obtener o renovar su certificado STCW para trabajar legalmente a bordo. \nEs la formación base imprescindible para acceder posteriormente a otros cursos marítimos y avanzar profesionalmente dentro del sector. \n\nAlojamiento para alumnos de fuera de Málaga\nPara los alumnos que se desplazan desde otras provincias\, ofrecemos hoteles concertados en Caleta de Vélez y alrededores por solo 35 € la noche\, facilitando una estancia cómoda y económica durante la realización del curso. \n\nTu curso STCW en la Costa del Sol\nSi buscas un Curso de Formación Básica en Seguridad STCW en Málaga\, homologado\, práctico y con profesores de primer nivel\, nuestro centro en Caleta de Vélez es la mejor opción de la Costa del Sol para comenzar o consolidar tu carrera marítima con total garantía.
URL:https://www.maritimacaleta.com/calendario/curso-de-formacion-basica-en-seguridad-stcw-4/
LOCATION:Maritima Caleta\, Diseminado Caleta de Vélez\, Caleta de Vélez\, Málaga\, 29751\, España
CATEGORIES:Curso fomación Básica en Seguridad stcw,curso STCW Málaga,Formación Básica STCW
ATTACH;FMTTYPE=image/jpeg:https://www.maritimacaleta.com/wp-content/uploads/2023/06/licencia-navegacion-PER-PNB-en-malaga-malagashine_17.jpg
ORGANIZER;CN="Maritima Caleta Formacion":MAILTO:cursos@maritimacaleta.com
END:VEVENT
BEGIN:VEVENT
DTSTART;TZID=Europe/Madrid:20260528T080000
DTEND;TZID=Europe/Madrid:20260528T170000
DTSTAMP:20260421T155806
CREATED:20260413T171823Z
LAST-MODIFIED:20260413T171823Z
UID:1496-1779955200-1779987600@www.maritimacaleta.com
SUMMARY:Actualización Operador Restringido del SMSSM
DESCRIPTION:No pasa nada si te ha caducado el certificado\, puedes realizar la revalidación o actualización para ponerlo al día. \nEs un curso de 8 horas que vamos a impartir en nuestras instalaciones de Caleta de Vélez.
URL:https://www.maritimacaleta.com/calendario/actualizacion-operador-restringido-del-smssm-4/
LOCATION:Maritima Caleta\, Diseminado Caleta de Vélez\, Caleta de Vélez\, Málaga\, 29751\, España
CATEGORIES:Actualización Operador Restringido del SMSSM,Actualización STCW
ATTACH;FMTTYPE=image/jpeg:https://www.maritimacaleta.com/wp-content/uploads/2022/10/formacion-seguridad-maritima-maritima-caleta-malaga-37-2.jpg
ORGANIZER;CN="Maritima Caleta Formacion":MAILTO:cursos@maritimacaleta.com
END:VEVENT
BEGIN:VEVENT
DTSTART;TZID=Europe/Madrid:20260601T090000
DTEND;TZID=Europe/Madrid:20260605T180000
DTSTAMP:20260421T155806
CREATED:20260319T182312Z
LAST-MODIFIED:20260413T170817Z
UID:1489-1780304400-1780682400@www.maritimacaleta.com
SUMMARY:Curso Operador Restringido del SMSSM
DESCRIPTION:📡 Curso de Operador Restringido del SMSSM\n📍 Caleta de Vélez📅 Del 18 al 22 de marzo \n\n\n\n\n\n\n\n\n\n\n4\n\n\n\nCurso operador restringido SMSSM en Caleta de Vélez\nEl curso operador restringido SMSSM en Caleta de Vélez es una formación obligatoria para los profesionales del sector marítimo que necesitan operar equipos de radiocomunicaciones dentro del Sistema Mundial de Socorro y Seguridad Marítima (SMSSM). Este curso se impartirá del 18 al 22 de marzo en Caleta de Vélez\, una ubicación estratégica para el sector pesquero y marítimo de la Axarquía y la provincia de Málaga. \nLa formación será impartida por el Centro de Formación Marítima Caleta de Vélez\, centro especializado en titulaciones náuticas y formación profesional marítima\, con experiencia en la preparación de cursos oficiales adaptados a la normativa vigente. \n\n¿Qué es el curso de Operador Restringido del SMSSM?\nEl curso de Operador Restringido del SMSSM capacita al alumno para el uso correcto y seguro de los sistemas de radiocomunicaciones marítimas empleados en situaciones de emergencia\, seguridad y rutina. Esta titulación es obligatoria para patrones y tripulantes de embarcaciones que dispongan de equipos SMSSM en zona A1. \nDurante el curso operador restringido SMSSM en Caleta de Vélez\, los alumnos aprenderán a manejar equipos como: \n\n\nRadiotelefonía VHF \n\n\nLlamadas selectivas digitales (DSC) \n\n\nRadiobalizas (EPIRB) \n\n\nRespondedores radar (SART) \n\n\nProcedimientos de socorro\, urgencia y seguridad \n\n\n\n¿A quién va dirigido este curso?\nEste curso está dirigido a: \n\n\nPatrones de pesca \n\n\nProfesionales del sector marítimo-pesquero \n\n\nTripulantes de embarcaciones de trabajo \n\n\nPersonas que necesiten renovar o ampliar su formación marítima \n\n\nAspirantes a titulaciones profesionales náuticas \n\n\nRealizar el curso operador restringido SMSSM en Caleta de Vélez permite cumplir con los requisitos legales exigidos por la normativa marítima nacional e internacional. \n\nFechas\, lugar y duración del curso\n\n\nCurso: Operador Restringido del SMSSM \n\n\nFechas: del 18 al 22 de marzo \n\n\nLugar: Caleta de Vélez (Málaga) \n\n\nCentro: Centro de Formación Marítima Caleta de Vélez \n\n\nModalidad: Presencial \n\n\nCertificación: Oficial y válida en todo el territorio nacional \n\n\nLas plazas son limitadas para garantizar una formación práctica y de calidad. \n\nVentajas de realizar el curso en Caleta de Vélez\nElegir el curso operador restringido SMSSM en Caleta de Vélez ofrece múltiples ventajas: \n\n\nFormación cercana para profesionales de la Axarquía y Málaga \n\n\nCentro especializado en formación marítima \n\n\nProfesorado con experiencia real en el sector \n\n\nContenidos actualizados según normativa vigente \n\n\nInstalaciones adaptadas a la formación técnica \n\n\nAdemás\, realizar el curso en un entorno marítimo activo facilita una mejor comprensión de los procedimientos y equipos reales utilizados a bordo. \n\nInscripción y más información\nSi estás interesado en realizar el curso operador restringido SMSSM en Caleta de Vélez\, te recomendamos reservar tu plaza con antelación. La demanda de este tipo de formación es alta\, especialmente entre profesionales del sector pesquero y marítimo. \nPara más información sobre horarios\, precios y requisitos de inscripción\, puedes contactar directamente con el Centro de Formación Marítima Caleta de Vélez.
URL:https://www.maritimacaleta.com/calendario/curso-operador-restringido-del-smssm-2/
LOCATION:Maritima Caleta\, Diseminado Caleta de Vélez\, Caleta de Vélez\, Málaga\, 29751\, España
CATEGORIES:Operador Restringido del SMSSM
ATTACH;FMTTYPE=image/jpeg:https://www.maritimacaleta.com/wp-content/uploads/2024/10/IMG_4506-scaled.jpeg
ORGANIZER;CN="Maritima Caleta Formacion":MAILTO:cursos@maritimacaleta.com
END:VEVENT
BEGIN:VEVENT
DTSTART;VALUE=DATE:20260608
DTEND;VALUE=DATE:20260612
DTSTAMP:20260421T155806
CREATED:20260308T192648Z
LAST-MODIFIED:20260413T172056Z
UID:1468-1780876800-1781222399@www.maritimacaleta.com
SUMMARY:Curso de Buques de Pasaje
DESCRIPTION:Curso de Buques de Pasaje en Málaga\nEl Curso de Buques de Pasaje en Málaga es una formación obligatoria para todos los profesionales del sector marítimo que desarrollan o van a desarrollar su actividad en buques de pasaje\, de acuerdo con el Convenio STCW y la normativa vigente. Este curso está dirigido a tripulantes que trabajan en ferris\, cruceros\, embarcaciones turísticas\, catamaranes de pasaje y cualquier buque dedicado al transporte de personas. \nLa formación se imparte de manera presencial en nuestro centro situado en Caleta de Vélez\, una ubicación estratégica de la Costa del Sol Oriental\, con fácil acceso desde Málaga capital\, Vélez-Málaga\, Torrox\, Nerja y el resto de la Axarquía. \n\nFormación STCW homologada en Caleta de Vélez\nEl curso se realiza en Marítima Caleta Formación\, centro especializado en formación marítima profesional en Málaga. Contamos con instalaciones adecuadas y medios técnicos modernos para garantizar una enseñanza de calidad\, adaptada a las exigencias reales del trabajo a bordo de buques de pasaje. \nNuestro centro está homologado oficialmente por la Dirección General de la Marina Mercante\, el Instituto Social de la Marina y la Junta de Andalucía\, lo que garantiza que el certificado obtenido tiene plena validez legal tanto a nivel nacional como internacional. \n\nProfesores con amplia experiencia en buques de pasaje\nEl curso de Buques de Pasaje en Málaga es impartido por profesores especializados en formación STCW\, con amplia experiencia profesional en el sector marítimo y una sólida trayectoria docente. Al frente del área formativa se encuentra Alejandro Rubio\, Capitán de la Marina Mercante\, con muchos años de experiencia navegando y formando a profesionales del sector. \nEl enfoque del profesorado es eminentemente práctico y orientado a la realidad del trabajo diario en buques de pasaje\, facilitando que el alumno adquiera los conocimientos necesarios para actuar con seguridad\, eficacia y responsabilidad. \n\nContenidos del curso de Buques de Pasaje\nEl Curso de Buques de Pasaje STCW aborda los aspectos fundamentales relacionados con la seguridad de los pasajeros y la gestión de situaciones de emergencia a bordo. Entre los principales contenidos se incluyen: \n\n\nControl de multitudes y comportamiento de los pasajeros \n\n\nProcedimientos de embarque y desembarque seguros \n\n\nComunicación eficaz con pasajeros en situaciones normales y de emergencia \n\n\nGestión de crisis y evacuación del buque \n\n\nUso de los equipos de seguridad y salvamento \n\n\nOrganización y coordinación de la tripulación en emergencias \n\n\nAntes del inicio del curso\, entregamos a cada alumno un cuaderno personalizado\, que sirve como apoyo para tomar notas\, repasar los contenidos clave y conservar una guía práctica para su actividad profesional. \n\nCurso de Buques de Pasaje en Málaga: a quién va dirigido\nEste curso está dirigido a capitanes\, oficiales\, marineros\, personal de hostelería y atención al pasaje\, así como a cualquier tripulante que trabaje o vaya a trabajar en buques de pasaje y necesite cumplir con los requisitos establecidos por la normativa STCW. \nEs una formación imprescindible para acceder a nuevas oportunidades laborales en el sector marítimo y para mantener la capacitación profesional actualizada. \n\nAlojamiento para alumnos de fuera de Málaga\nPensando en los alumnos que se desplazan desde otras provincias o comunidades\, ofrecemos la posibilidad de alojamiento en hoteles concertados en Caleta de Vélez y alrededores por solo 35 € la noche\, facilitando así la realización del curso de forma cómoda y económica. \n\nTu curso de Buques de Pasaje en la Costa del Sol\nSi buscas un Curso de Buques de Pasaje en Málaga\, homologado\, impartido por profesionales con experiencia real y en un entorno cercano y bien comunicado\, nuestro centro en Caleta de Vélez es la mejor opción en la Costa del Sol. Obtén tu certificado STCW y sigue desarrollando tu carrera profesional en el sector marítimo con total garantía.
URL:https://www.maritimacaleta.com/calendario/curso-de-buques-de-pasaje-4/
LOCATION:Maritima Caleta\, Diseminado Caleta de Vélez\, Caleta de Vélez\, Málaga\, 29751\, España
CATEGORIES:Curso de Buques de Pasaje
ATTACH;FMTTYPE=image/jpeg:https://www.maritimacaleta.com/wp-content/uploads/2025/09/PARA-ALEJANDRO.AIDASTELLA-JR-scaled.jpg
ORGANIZER;CN="Maritima Caleta de Velez SL":MAILTO:cursos@maritimacaleta.com
END:VEVENT
END:VCALENDAR